BEGIN:VCALENDAR
VERSION:2.0
PRODID:spatie/icalendar-generator
DESCRIPTION:Events from STRAIGHT FLUSH ENTERTAINMENT\, LLC
X-WR-CALDESC:Events from STRAIGHT FLUSH ENTERTAINMENT\, LLC
REFRESH-INTERVAL;VALUE=DURATION:PT1440M
X-PUBLISHED-TTL:PT1440M
BEGIN:VTIMEZONE
TZID:Etc/GMT+5
BEGIN:STANDARD
DTSTART:20250628T190000Z
TZOFFSETFROM:-0500
TZOFFSETTO:-0500
END:STANDARD
END:VTIMEZONE
BEGIN:VTIMEZONE
TZID:UTC
BEGIN:STANDARD
DTSTART:20250724T152828Z
TZOFFSETFROM:+0000
TZOFFSETTO:+0000
END:STANDARD
END:VTIMEZONE
BEGIN:VEVENT
UID:556-4
DTSTAMP:20260420T152828Z
SUMMARY:Mad Jacks Sports Cafe
LOCATION:
ORGANIZER;CN=Straight Flush:MAILTO:straightflushpokertour@gmail.com
RRULE:FREQ=WEEKLY;COUNT=0
DTSTART;TZID=Etc/GMT+5:20260325T190000
DTEND;TZID=Etc/GMT+5:20260325T200000
X-ALT-DESC;FMTTYPE=TEXT/HTML:
CATEGORIES:General
URL;VALUE=URI:https://sfpokertour.com/mc-events/mad-jacks-sports-cafe/?mc_i
 d=556
METHOD:PUBLISH
END:VEVENT
END:VCALENDAR