BEGIN:VCALENDAR
VERSION:2.0
PRODID:spatie/icalendar-generator
DESCRIPTION:Events from STRAIGHT FLUSH ENTERTAINMENT\, LLC
X-WR-CALDESC:Events from STRAIGHT FLUSH ENTERTAINMENT\, LLC
REFRESH-INTERVAL;VALUE=DURATION:PT1440M
X-PUBLISHED-TTL:PT1440M
BEGIN:VTIMEZONE
TZID:Etc/GMT+5
BEGIN:STANDARD
DTSTART:20241029T130000Z
TZOFFSETFROM:-0500
TZOFFSETTO:-0500
END:STANDARD
END:VTIMEZONE
BEGIN:VTIMEZONE
TZID:UTC
BEGIN:STANDARD
DTSTART:20250726T075200Z
TZOFFSETFROM:+0000
TZOFFSETTO:+0000
END:STANDARD
END:VTIMEZONE
BEGIN:VEVENT
UID:2104-15
DTSTAMP:20260422T075200Z
SUMMARY:Tournament of Champions Apr-Jun 2025
LOCATION:
ORGANIZER;CN=Straight Flush:MAILTO:straightflushpokertour@gmail.com
DTSTART;TZID=Etc/GMT+5:20250726T130000
DTEND;TZID=Etc/GMT+5:20250726T170000
X-ALT-DESC;FMTTYPE=TEXT/HTML:The Apr-Jun 2025 Tournament of Champions is sc
 heduled for Saturday\, July 26th\, 2025 at Muddy Chicken in Burnsville at 
 1pm. The Tournament of Champions is a $200 Winner Takes All tournament ope
 n only to those who have qualified by placing in the top 5 point finishers
  at one (or more) of our poker locations\, the&amp;hellip\;
CATEGORIES:General
URL;VALUE=URI:https://sfpokertour.com/mc-events/tournament-of-champions-apr
 -jun-2025/
METHOD:PUBLISH
END:VEVENT
END:VCALENDAR