BEGIN:VCALENDAR
VERSION:2.0
PRODID:spatie/icalendar-generator
DESCRIPTION:Events from STRAIGHT FLUSH ENTERTAINMENT\, LLC
X-WR-CALDESC:Events from STRAIGHT FLUSH ENTERTAINMENT\, LLC
REFRESH-INTERVAL;VALUE=DURATION:PT1440M
X-PUBLISHED-TTL:PT1440M
BEGIN:VTIMEZONE
TZID:Etc/GMT+5
BEGIN:STANDARD
DTSTART:20250121T140000Z
TZOFFSETFROM:-0500
TZOFFSETTO:-0500
END:STANDARD
END:VTIMEZONE
BEGIN:VTIMEZONE
TZID:UTC
BEGIN:STANDARD
DTSTART:20250724T163629Z
TZOFFSETFROM:+0000
TZOFFSETTO:+0000
END:STANDARD
END:VTIMEZONE
BEGIN:VEVENT
UID:2105-16
DTSTAMP:20260420T163629Z
SUMMARY:Tournament of Champions Jul-Sept 2025 Session
LOCATION:THE DOG HOUSE BAR &amp;amp\; GRILL 2029 Woodlynn Ave  Maplewood MN 551
 09
ORGANIZER;CN=Straight Flush:MAILTO:straightflushpokertour@gmail.com
DTSTART;TZID=Etc/GMT+5:20251018T140000
DTEND;TZID=Etc/GMT+5:20251018T150000
X-ALT-DESC;FMTTYPE=TEXT/HTML:The Apr-Jun 2025 Tournament of Champions is sc
 heduled for Saturday\, October 18th\, 2025 at Park Place Sports Bar in Sai
 nt Paul Park at 2pm. The Tournament of Champions is a $200 Winner Takes Al
 l tournament open only to those who have qualified by placing in the top 5
  point finishers at one (or more) of&amp;hellip\;
CATEGORIES:General
URL;VALUE=URI:https://sfpokertour.com/mc-events/tournament-of-champions-jul
 -sept-2025-session/
METHOD:PUBLISH
END:VEVENT
END:VCALENDAR